BEGIN:VCALENDAR
VERSION:2.0
PRODID:-//Headway North Cumbria - ECPv6.2.9//NONSGML v1.0//EN
CALSCALE:GREGORIAN
METHOD:PUBLISH
X-WR-CALNAME:Headway North Cumbria
X-ORIGINAL-URL:https://headwaynorthcumbria.org.uk
X-WR-CALDESC:Events for Headway North Cumbria
REFRESH-INTERVAL;VALUE=DURATION:PT1H
X-Robots-Tag:noindex
X-PUBLISHED-TTL:PT1H
BEGIN:VTIMEZONE
TZID:Europe/London
BEGIN:DAYLIGHT
TZOFFSETFROM:+0000
TZOFFSETTO:+0100
TZNAME:BST
DTSTART:20210328T010000
END:DAYLIGHT
BEGIN:STANDARD
TZOFFSETFROM:+0100
TZOFFSETTO:+0000
TZNAME:GMT
DTSTART:20211031T010000
END:STANDARD
END:VTIMEZONE
BEGIN:VEVENT
DTSTART;TZID=Europe/London:20210517T140000
DTEND;TZID=Europe/London:20210517T150000
DTSTAMP:20260424T074251
CREATED:20210513T130452Z
LAST-MODIFIED:20210513T130452Z
UID:2811-1621260000-1621263600@headwaynorthcumbria.org.uk
SUMMARY:Weekly Zoom Meeting
DESCRIPTION:Headway North Cumbria runs a weekly ZOOM meeting for its members commencing at 14:00 and running for an hour.  The aim of the virtual meeting is for members to have the opportunity to engage with each other in a safe environment using their mobile phones\, tablets or computers. \nFor security reasons attendance at the meeting is by invitation only.  If you wish to attend please e-mail headwaynorthcumbria@yahoo.com or text or call our helpline on 07508 111834. \nFor those unfamiliar with ZOOM help with installing the application to your device can be provided. \n 
URL:https://headwaynorthcumbria.org.uk/event/weekly-zoom-meeting/
ATTACH;FMTTYPE=image/jpeg:https://headwaynorthcumbria.org.uk/wp-content/uploads/2021/05/zoom.jpg
END:VEVENT
BEGIN:VEVENT
DTSTART;TZID=Europe/London:20210517T080000
DTEND;TZID=Europe/London:20210523T170000
DTSTAMP:20260424T074251
CREATED:20210426T152625Z
LAST-MODIFIED:20210518T154938Z
UID:2536-1621238400-1621789200@headwaynorthcumbria.org.uk
SUMMARY:ABI Week 2021: A Life of Lockdown?
DESCRIPTION:Covid-19 has been tough on everyone. Repeated lockdowns have left people isolated and lonely\, often harming their mental wellbeing. \nBut imagine living every day of your life in isolation… \nThe effects of brain injury\, such as problems with memory\, information processing\, or speech\, compounded by a lack of understanding of this often hidden disability\, can leave survivors lacking the confidence to interact with society. \nThe theme of this year’s Action for Brain Injury Week is A life of lockdown?  and will focus on social isolation after brain injury\, a problem that has been exacerbated by the Covid-19 pandemic.   The campaign will aim to give a voice to survivors and carers to help them better explain to their friends and families the challenges they face as a result of brain injury.  As well as having an awareness-raising focus\, it will also have positive messages and tools to help people make a difference\, such as guides and top tips for friends of brain injury survivors and carers. \nAction for Brain Injury Week will run from 17-23 May 2021. \nFurther details will be released on the Headway UK website and social media in due course. \nHeadway North Cumbria will discuss A life of lockdown? during its Zoom meeting on Monday 24 May 2021.
URL:https://headwaynorthcumbria.org.uk/event/abi-week-2021-a-life-of-lockdown/
ATTACH;FMTTYPE=image/jpeg:https://headwaynorthcumbria.org.uk/wp-content/uploads/2021/04/ABI-Week-2021.jpg
END:VEVENT
END:VCALENDAR